BEGIN:VCALENDAR
VERSION:2.0
PRODID:https://www.kufer.de/kuferweb / DE
METHOD:PUBLISH
CALSCALE:GREGORIAN
X-WR-TIMEZONE:Europe/Berlin
BEGIN:VTIMEZONE
TZID:Europe/Berlin
X-LIC-LOCATION:Europe/Berlin
BEGIN:DAYLIGHT
TZOFFSETFROM:+0100
TZOFFSETTO:+0200
TZNAME:CEST
DTSTART:19700329T020000
RRULE:FREQ=YEARLY;INTERVAL=1;BYDAY=-1SU;BYMONTH=3
END:DAYLIGHT
BEGIN:STANDARD
TZOFFSETFROM:+0200
TZOFFSETTO:+0100
TZNAME:CET
DTSTART:19701025T030000
RRULE:FREQ=YEARLY;INTERVAL=1;BYDAY=-1SU;BYMONTH=10
END:STANDARD
END:VTIMEZONE
BEGIN:VEVENT
DTSTAMP:20260425T141543
DTSTART;TZID=Europe/Berlin:20260112T190000
DTEND;TZID=Europe/Berlin:20260112T210000
UID:26A-1300-20260112T190000@VHSRECKLINGHAUSEN
SUMMARY:Fachforum Nachhaltige Stadtentwicklung Arbeitskreis (26A-1300) 
LOCATION:Willy-Brandt-Haus R. 0.15, Herzogswall 17, 45657 Recklinghausen
END:VEVENT
BEGIN:VEVENT
DTSTAMP:20260425T141543
DTSTART;TZID=Europe/Berlin:20260209T190000
DTEND;TZID=Europe/Berlin:20260209T210000
UID:26A-1300-20260209T190000@VHSRECKLINGHAUSEN
SUMMARY:Fachforum Nachhaltige Stadtentwicklung Arbeitskreis (26A-1300) 
LOCATION:Willy-Brandt-Haus R. 0.15, Herzogswall 17, 45657 Recklinghausen
END:VEVENT
BEGIN:VEVENT
DTSTAMP:20260425T141543
DTSTART;TZID=Europe/Berlin:20260309T190000
DTEND;TZID=Europe/Berlin:20260309T210000
UID:26A-1300-20260309T190000@VHSRECKLINGHAUSEN
SUMMARY:Fachforum Nachhaltige Stadtentwicklung Arbeitskreis (26A-1300) 
LOCATION:Willy-Brandt-Haus R. 0.15, Herzogswall 17, 45657 Recklinghausen
END:VEVENT
BEGIN:VEVENT
DTSTAMP:20260425T141543
DTSTART;TZID=Europe/Berlin:20260413T190000
DTEND;TZID=Europe/Berlin:20260413T210000
UID:26A-1300-20260413T190000@VHSRECKLINGHAUSEN
SUMMARY:Fachforum Nachhaltige Stadtentwicklung Arbeitskreis (26A-1300) 
LOCATION:Willy-Brandt-Haus R. 0.06, , 
END:VEVENT
BEGIN:VEVENT
DTSTAMP:20260425T141543
DTSTART;TZID=Europe/Berlin:20260511T190000
DTEND;TZID=Europe/Berlin:20260511T210000
UID:26A-1300-20260511T190000@VHSRECKLINGHAUSEN
SUMMARY:Fachforum Nachhaltige Stadtentwicklung Arbeitskreis (26A-1300) 
LOCATION:Willy-Brandt-Haus R. 0.06, , 
END:VEVENT
BEGIN:VEVENT
DTSTAMP:20260425T141543
DTSTART;TZID=Europe/Berlin:20260608T190000
DTEND;TZID=Europe/Berlin:20260608T210000
UID:26A-1300-20260608T190000@VHSRECKLINGHAUSEN
SUMMARY:Fachforum Nachhaltige Stadtentwicklung Arbeitskreis (26A-1300) 
LOCATION:Willy-Brandt-Haus R. 0.15, Herzogswall 17, 45657 Recklinghausen
END:VEVENT
END:VCALENDAR