BEGIN:VCALENDAR
VERSION:2.0
PRODID:https://www.kufer.de/kuferweb / DE
METHOD:PUBLISH
CALSCALE:GREGORIAN
X-WR-TIMEZONE:Europe/Berlin
BEGIN:VTIMEZONE
TZID:Europe/Berlin
X-LIC-LOCATION:Europe/Berlin
BEGIN:DAYLIGHT
TZOFFSETFROM:+0100
TZOFFSETTO:+0200
TZNAME:CEST
DTSTART:19700329T020000
RRULE:FREQ=YEARLY;INTERVAL=1;BYDAY=-1SU;BYMONTH=3
END:DAYLIGHT
BEGIN:STANDARD
TZOFFSETFROM:+0200
TZOFFSETTO:+0100
TZNAME:CET
DTSTART:19701025T030000
RRULE:FREQ=YEARLY;INTERVAL=1;BYDAY=-1SU;BYMONTH=10
END:STANDARD
END:VTIMEZONE
BEGIN:VEVENT
DTSTAMP:20260421T095104
DTSTART;TZID=Europe/Berlin:20260204T190000
DTEND;TZID=Europe/Berlin:20260204T203000
UID:26A-4113-20260204T190000@VHSRECKLINGHAUSEN
SUMMARY:Englisch A 2 Conversation (26A-4113) 
LOCATION:Bürgerhaus Süd; Raum 1, Körnerplatz, 45661 Recklinghausen
END:VEVENT
BEGIN:VEVENT
DTSTAMP:20260421T095104
DTSTART;TZID=Europe/Berlin:20260211T190000
DTEND;TZID=Europe/Berlin:20260211T203000
UID:26A-4113-20260211T190000@VHSRECKLINGHAUSEN
SUMMARY:Englisch A 2 Conversation (26A-4113) 
LOCATION:Bürgerhaus Süd; Raum 1, Körnerplatz, 45661 Recklinghausen
END:VEVENT
BEGIN:VEVENT
DTSTAMP:20260421T095104
DTSTART;TZID=Europe/Berlin:20260218T190000
DTEND;TZID=Europe/Berlin:20260218T203000
UID:26A-4113-20260218T190000@VHSRECKLINGHAUSEN
SUMMARY:Englisch A 2 Conversation (26A-4113) 
LOCATION:Bürgerhaus Süd; Raum 1, Körnerplatz, 45661 Recklinghausen
END:VEVENT
BEGIN:VEVENT
DTSTAMP:20260421T095104
DTSTART;TZID=Europe/Berlin:20260225T190000
DTEND;TZID=Europe/Berlin:20260225T203000
UID:26A-4113-20260225T190000@VHSRECKLINGHAUSEN
SUMMARY:Englisch A 2 Conversation (26A-4113) 
LOCATION:Bürgerhaus Süd; Raum 1, Körnerplatz, 45661 Recklinghausen
END:VEVENT
BEGIN:VEVENT
DTSTAMP:20260421T095104
DTSTART;TZID=Europe/Berlin:20260304T190000
DTEND;TZID=Europe/Berlin:20260304T203000
UID:26A-4113-20260304T190000@VHSRECKLINGHAUSEN
SUMMARY:Englisch A 2 Conversation (26A-4113) 
LOCATION:Bürgerhaus Süd; Raum 1, Körnerplatz, 45661 Recklinghausen
END:VEVENT
BEGIN:VEVENT
DTSTAMP:20260421T095104
DTSTART;TZID=Europe/Berlin:20260311T190000
DTEND;TZID=Europe/Berlin:20260311T203000
UID:26A-4113-20260311T190000@VHSRECKLINGHAUSEN
SUMMARY:Englisch A 2 Conversation (26A-4113) 
LOCATION:Bürgerhaus Süd; Raum 1, Körnerplatz, 45661 Recklinghausen
END:VEVENT
BEGIN:VEVENT
DTSTAMP:20260421T095104
DTSTART;TZID=Europe/Berlin:20260318T190000
DTEND;TZID=Europe/Berlin:20260318T203000
UID:26A-4113-20260318T190000@VHSRECKLINGHAUSEN
SUMMARY:Englisch A 2 Conversation (26A-4113) 
LOCATION:Bürgerhaus Süd; Raum 1, Körnerplatz, 45661 Recklinghausen
END:VEVENT
BEGIN:VEVENT
DTSTAMP:20260421T095104
DTSTART;TZID=Europe/Berlin:20260325T190000
DTEND;TZID=Europe/Berlin:20260325T203000
UID:26A-4113-20260325T190000@VHSRECKLINGHAUSEN
SUMMARY:Englisch A 2 Conversation (26A-4113) 
LOCATION:Bürgerhaus Süd; Raum 1, Körnerplatz, 45661 Recklinghausen
END:VEVENT
END:VCALENDAR