BEGIN:VCALENDAR
VERSION:2.0
PRODID:https://www.kufer.de/kuferweb / DE
METHOD:PUBLISH
CALSCALE:GREGORIAN
X-WR-TIMEZONE:Europe/Berlin
BEGIN:VTIMEZONE
TZID:Europe/Berlin
X-LIC-LOCATION:Europe/Berlin
BEGIN:DAYLIGHT
TZOFFSETFROM:+0100
TZOFFSETTO:+0200
TZNAME:CEST
DTSTART:19700329T020000
RRULE:FREQ=YEARLY;INTERVAL=1;BYDAY=-1SU;BYMONTH=3
END:DAYLIGHT
BEGIN:STANDARD
TZOFFSETFROM:+0200
TZOFFSETTO:+0100
TZNAME:CET
DTSTART:19701025T030000
RRULE:FREQ=YEARLY;INTERVAL=1;BYDAY=-1SU;BYMONTH=10
END:STANDARD
END:VTIMEZONE
BEGIN:VEVENT
DTSTAMP:20260425T155130
DTSTART;TZID=Europe/Berlin:20260129T150000
DTEND;TZID=Europe/Berlin:20260129T170000
UID:26A-4800-20260129T150000@VHSRECKLINGHAUSEN
DESCRIPTION:Meine Stadt - meine Adresse
SUMMARY:Sprachcafé (26A-4800) 
LOCATION:Willy-Brandt-Haus R. 0.20, Herzogswall 17, 45657 Recklinghausen
END:VEVENT
BEGIN:VEVENT
DTSTAMP:20260425T155130
DTSTART;TZID=Europe/Berlin:20260205T150000
DTEND;TZID=Europe/Berlin:20260205T170000
UID:26A-4800-20260205T150000@VHSRECKLINGHAUSEN
DESCRIPTION:Schule- Bildung- Lebenslanges Lernen
SUMMARY:Sprachcafé (26A-4800) 
LOCATION:Willy-Brandt-Haus R. 0.20, Herzogswall 17, 45657 Recklinghausen
END:VEVENT
BEGIN:VEVENT
DTSTAMP:20260425T155130
DTSTART;TZID=Europe/Berlin:20260212T150000
DTEND;TZID=Europe/Berlin:20260212T170000
UID:26A-4800-20260212T150000@VHSRECKLINGHAUSEN
SUMMARY:Sprachcafé (26A-4800) 
LOCATION:Willy-Brandt-Haus R. 0.20, Herzogswall 17, 45657 Recklinghausen
END:VEVENT
BEGIN:VEVENT
DTSTAMP:20260425T155130
DTSTART;TZID=Europe/Berlin:20260219T150000
DTEND;TZID=Europe/Berlin:20260219T170000
UID:26A-4800-20260219T150000@VHSRECKLINGHAUSEN
SUMMARY:Sprachcafé (26A-4800) 
LOCATION:Willy-Brandt-Haus R. 0.20, Herzogswall 17, 45657 Recklinghausen
END:VEVENT
BEGIN:VEVENT
DTSTAMP:20260425T155130
DTSTART;TZID=Europe/Berlin:20260226T150000
DTEND;TZID=Europe/Berlin:20260226T170000
UID:26A-4800-20260226T150000@VHSRECKLINGHAUSEN
SUMMARY:Sprachcafé (26A-4800) 
LOCATION:Willy-Brandt-Haus R. 0.20, Herzogswall 17, 45657 Recklinghausen
END:VEVENT
BEGIN:VEVENT
DTSTAMP:20260425T155130
DTSTART;TZID=Europe/Berlin:20260305T150000
DTEND;TZID=Europe/Berlin:20260305T170000
UID:26A-4800-20260305T150000@VHSRECKLINGHAUSEN
DESCRIPTION:Sport und Bewegung - vom Fitnessstudio, Vereinen und Gesundheit...
SUMMARY:Sprachcafé (26A-4800) 
LOCATION:Willy-Brandt-Haus R. 0.20, Herzogswall 17, 45657 Recklinghausen
END:VEVENT
BEGIN:VEVENT
DTSTAMP:20260425T155130
DTSTART;TZID=Europe/Berlin:20260312T150000
DTEND;TZID=Europe/Berlin:20260312T170000
UID:26A-4800-20260312T150000@VHSRECKLINGHAUSEN
DESCRIPTION:Das Grundgesetz
SUMMARY:Sprachcafé (26A-4800) 
LOCATION:Willy-Brandt-Haus R. 0.20, Herzogswall 17, 45657 Recklinghausen
END:VEVENT
BEGIN:VEVENT
DTSTAMP:20260425T155130
DTSTART;TZID=Europe/Berlin:20260319T150000
DTEND;TZID=Europe/Berlin:20260319T170000
UID:26A-4800-20260319T150000@VHSRECKLINGHAUSEN
DESCRIPTION:Kultur- und Freizeitangebote im Ruhrgebiet
SUMMARY:Sprachcafé (26A-4800) 
LOCATION:Willy-Brandt-Haus R. 0.20, Herzogswall 17, 45657 Recklinghausen
END:VEVENT
BEGIN:VEVENT
DTSTAMP:20260425T155130
DTSTART;TZID=Europe/Berlin:20260326T150000
DTEND;TZID=Europe/Berlin:20260326T170000
UID:26A-4800-20260326T150000@VHSRECKLINGHAUSEN
SUMMARY:Sprachcafé (26A-4800) 
LOCATION:Willy-Brandt-Haus R. 0.20, Herzogswall 17, 45657 Recklinghausen
END:VEVENT
BEGIN:VEVENT
DTSTAMP:20260425T155130
DTSTART;TZID=Europe/Berlin:20260416T150000
DTEND;TZID=Europe/Berlin:20260416T170000
UID:26A-4800-20260416T150000@VHSRECKLINGHAUSEN
SUMMARY:Sprachcafé (26A-4800) 
LOCATION:Willy-Brandt-Haus R. 0.20, Herzogswall 17, 45657 Recklinghausen
END:VEVENT
BEGIN:VEVENT
DTSTAMP:20260425T155130
DTSTART;TZID=Europe/Berlin:20260423T150000
DTEND;TZID=Europe/Berlin:20260423T170000
UID:26A-4800-20260423T150000@VHSRECKLINGHAUSEN
SUMMARY:Sprachcafé (26A-4800) 
LOCATION:Willy-Brandt-Haus R. 0.20, Herzogswall 17, 45657 Recklinghausen
END:VEVENT
BEGIN:VEVENT
DTSTAMP:20260425T155130
DTSTART;TZID=Europe/Berlin:20260430T150000
DTEND;TZID=Europe/Berlin:20260430T170000
UID:26A-4800-20260430T150000@VHSRECKLINGHAUSEN
SUMMARY:Sprachcafé (26A-4800) 
LOCATION:Willy-Brandt-Haus R. 0.20, Herzogswall 17, 45657 Recklinghausen
END:VEVENT
BEGIN:VEVENT
DTSTAMP:20260425T155130
DTSTART;TZID=Europe/Berlin:20260507T150000
DTEND;TZID=Europe/Berlin:20260507T170000
UID:26A-4800-20260507T150000@VHSRECKLINGHAUSEN
SUMMARY:Sprachcafé (26A-4800) 
LOCATION:Willy-Brandt-Haus R. 0.20, Herzogswall 17, 45657 Recklinghausen
END:VEVENT
BEGIN:VEVENT
DTSTAMP:20260425T155130
DTSTART;TZID=Europe/Berlin:20260521T150000
DTEND;TZID=Europe/Berlin:20260521T170000
UID:26A-4800-20260521T150000@VHSRECKLINGHAUSEN
SUMMARY:Sprachcafé (26A-4800) 
LOCATION:Willy-Brandt-Haus R. 0.20, Herzogswall 17, 45657 Recklinghausen
END:VEVENT
BEGIN:VEVENT
DTSTAMP:20260425T155130
DTSTART;TZID=Europe/Berlin:20260528T150000
DTEND;TZID=Europe/Berlin:20260528T170000
UID:26A-4800-20260528T150000@VHSRECKLINGHAUSEN
SUMMARY:Sprachcafé (26A-4800) 
LOCATION:Willy-Brandt-Haus R. 0.20, Herzogswall 17, 45657 Recklinghausen
END:VEVENT
BEGIN:VEVENT
DTSTAMP:20260425T155130
DTSTART;TZID=Europe/Berlin:20260611T150000
DTEND;TZID=Europe/Berlin:20260611T170000
UID:26A-4800-20260611T150000@VHSRECKLINGHAUSEN
SUMMARY:Sprachcafé (26A-4800) 
LOCATION:Willy-Brandt-Haus R. 0.20, Herzogswall 17, 45657 Recklinghausen
END:VEVENT
BEGIN:VEVENT
DTSTAMP:20260425T155130
DTSTART;TZID=Europe/Berlin:20260618T150000
DTEND;TZID=Europe/Berlin:20260618T170000
UID:26A-4800-20260618T150000@VHSRECKLINGHAUSEN
SUMMARY:Sprachcafé (26A-4800) 
LOCATION:Willy-Brandt-Haus R. 0.20, Herzogswall 17, 45657 Recklinghausen
END:VEVENT
BEGIN:VEVENT
DTSTAMP:20260425T155130
DTSTART;TZID=Europe/Berlin:20260625T150000
DTEND;TZID=Europe/Berlin:20260625T170000
UID:26A-4800-20260625T150000@VHSRECKLINGHAUSEN
SUMMARY:Sprachcafé (26A-4800) 
LOCATION:Willy-Brandt-Haus R. 0.20, Herzogswall 17, 45657 Recklinghausen
END:VEVENT
BEGIN:VEVENT
DTSTAMP:20260425T155130
DTSTART;TZID=Europe/Berlin:20260702T150000
DTEND;TZID=Europe/Berlin:20260702T170000
UID:26A-4800-20260702T150000@VHSRECKLINGHAUSEN
SUMMARY:Sprachcafé (26A-4800) 
LOCATION:Willy-Brandt-Haus R. 0.20, Herzogswall 17, 45657 Recklinghausen
END:VEVENT
END:VCALENDAR