BEGIN:VCALENDAR
VERSION:2.0
PRODID:https://www.kufer.de/kuferweb / DE
METHOD:PUBLISH
CALSCALE:GREGORIAN
X-WR-TIMEZONE:Europe/Berlin
BEGIN:VTIMEZONE
TZID:Europe/Berlin
X-LIC-LOCATION:Europe/Berlin
BEGIN:DAYLIGHT
TZOFFSETFROM:+0100
TZOFFSETTO:+0200
TZNAME:CEST
DTSTART:19700329T020000
RRULE:FREQ=YEARLY;INTERVAL=1;BYDAY=-1SU;BYMONTH=3
END:DAYLIGHT
BEGIN:STANDARD
TZOFFSETFROM:+0200
TZOFFSETTO:+0100
TZNAME:CET
DTSTART:19701025T030000
RRULE:FREQ=YEARLY;INTERVAL=1;BYDAY=-1SU;BYMONTH=10
END:STANDARD
END:VTIMEZONE
BEGIN:VEVENT
DTSTAMP:20260425T141443
DTSTART;TZID=Europe/Berlin:20260204T143000
DTEND;TZID=Europe/Berlin:20260204T163000
UID:26A-5000-20260204T143000@VHSRECKLINGHAUSEN
SUMMARY:Digital-Treff (26A-5000) 
LOCATION:Willy-Brandt-Haus R. 0.20, Herzogswall 17, 45657 Recklinghausen
END:VEVENT
BEGIN:VEVENT
DTSTAMP:20260425T141443
DTSTART;TZID=Europe/Berlin:20260218T143000
DTEND;TZID=Europe/Berlin:20260218T163000
UID:26A-5000-20260218T143000@VHSRECKLINGHAUSEN
SUMMARY:Digital-Treff (26A-5000) 
LOCATION:Willy-Brandt-Haus R. 0.07, Herzogswall 17, 45657 Recklinghausen
END:VEVENT
BEGIN:VEVENT
DTSTAMP:20260425T141443
DTSTART;TZID=Europe/Berlin:20260304T143000
DTEND;TZID=Europe/Berlin:20260304T163000
UID:26A-5000-20260304T143000@VHSRECKLINGHAUSEN
SUMMARY:Digital-Treff (26A-5000) 
LOCATION:Willy-Brandt-Haus R. 0.07, Herzogswall 17, 45657 Recklinghausen
END:VEVENT
BEGIN:VEVENT
DTSTAMP:20260425T141443
DTSTART;TZID=Europe/Berlin:20260318T143000
DTEND;TZID=Europe/Berlin:20260318T163000
UID:26A-5000-20260318T143000@VHSRECKLINGHAUSEN
SUMMARY:Digital-Treff (26A-5000) 
LOCATION:Willy-Brandt-Haus R. 0.07, Herzogswall 17, 45657 Recklinghausen
END:VEVENT
BEGIN:VEVENT
DTSTAMP:20260425T141443
DTSTART;TZID=Europe/Berlin:20260401T143000
DTEND;TZID=Europe/Berlin:20260401T163000
UID:26A-5000-20260401T143000@VHSRECKLINGHAUSEN
SUMMARY:Digital-Treff (26A-5000) 
LOCATION:Willy-Brandt-Haus R. 0.20, Herzogswall 17, 45657 Recklinghausen
END:VEVENT
BEGIN:VEVENT
DTSTAMP:20260425T141443
DTSTART;TZID=Europe/Berlin:20260415T143000
DTEND;TZID=Europe/Berlin:20260415T163000
UID:26A-5000-20260415T143000@VHSRECKLINGHAUSEN
SUMMARY:Digital-Treff (26A-5000) 
LOCATION:Willy-Brandt-Haus R. 0.20, Herzogswall 17, 45657 Recklinghausen
END:VEVENT
BEGIN:VEVENT
DTSTAMP:20260425T141443
DTSTART;TZID=Europe/Berlin:20260429T143000
DTEND;TZID=Europe/Berlin:20260429T163000
UID:26A-5000-20260429T143000@VHSRECKLINGHAUSEN
SUMMARY:Digital-Treff (26A-5000) 
LOCATION:Willy-Brandt-Haus R. 0.20, Herzogswall 17, 45657 Recklinghausen
END:VEVENT
BEGIN:VEVENT
DTSTAMP:20260425T141443
DTSTART;TZID=Europe/Berlin:20260513T143000
DTEND;TZID=Europe/Berlin:20260513T163000
UID:26A-5000-20260513T143000@VHSRECKLINGHAUSEN
SUMMARY:Digital-Treff (26A-5000) 
LOCATION:Willy-Brandt-Haus R. 0.07, Herzogswall 17, 45657 Recklinghausen
END:VEVENT
BEGIN:VEVENT
DTSTAMP:20260425T141443
DTSTART;TZID=Europe/Berlin:20260527T143000
DTEND;TZID=Europe/Berlin:20260527T163000
UID:26A-5000-20260527T143000@VHSRECKLINGHAUSEN
SUMMARY:Digital-Treff (26A-5000) 
LOCATION:Willy-Brandt-Haus R. 0.20, Herzogswall 17, 45657 Recklinghausen
END:VEVENT
END:VCALENDAR