BEGIN:VCALENDAR
VERSION:2.0
PRODID:https://www.kufer.de/kuferweb / DE
METHOD:PUBLISH
CALSCALE:GREGORIAN
X-WR-TIMEZONE:Europe/Berlin
BEGIN:VTIMEZONE
TZID:Europe/Berlin
X-LIC-LOCATION:Europe/Berlin
BEGIN:DAYLIGHT
TZOFFSETFROM:+0100
TZOFFSETTO:+0200
TZNAME:CEST
DTSTART:19700329T020000
RRULE:FREQ=YEARLY;INTERVAL=1;BYDAY=-1SU;BYMONTH=3
END:DAYLIGHT
BEGIN:STANDARD
TZOFFSETFROM:+0200
TZOFFSETTO:+0100
TZNAME:CET
DTSTART:19701025T030000
RRULE:FREQ=YEARLY;INTERVAL=1;BYDAY=-1SU;BYMONTH=10
END:STANDARD
END:VTIMEZONE
BEGIN:VEVENT
DTSTAMP:20260425T142736
DTSTART;TZID=Europe/Berlin:20260204T100000
DTEND;TZID=Europe/Berlin:20260204T113000
UID:26A-5001-20260204T100000@VHSRECKLINGHAUSEN
SUMMARY:Smartphone ganz einfach: Grundkurs für Anfänger*innen (26A-5001) 
LOCATION:Willy-Brandt-Haus R. 0.15, Herzogswall 17, 45657 Recklinghausen
END:VEVENT
BEGIN:VEVENT
DTSTAMP:20260425T142736
DTSTART;TZID=Europe/Berlin:20260211T100000
DTEND;TZID=Europe/Berlin:20260211T113000
UID:26A-5001-20260211T100000@VHSRECKLINGHAUSEN
SUMMARY:Smartphone ganz einfach: Grundkurs für Anfänger*innen (26A-5001) 
LOCATION:Willy-Brandt-Haus R. 0.15, Herzogswall 17, 45657 Recklinghausen
END:VEVENT
BEGIN:VEVENT
DTSTAMP:20260425T142736
DTSTART;TZID=Europe/Berlin:20260218T100000
DTEND;TZID=Europe/Berlin:20260218T113000
UID:26A-5001-20260218T100000@VHSRECKLINGHAUSEN
SUMMARY:Smartphone ganz einfach: Grundkurs für Anfänger*innen (26A-5001) 
LOCATION:Willy-Brandt-Haus R. 0.15, Herzogswall 17, 45657 Recklinghausen
END:VEVENT
BEGIN:VEVENT
DTSTAMP:20260425T142736
DTSTART;TZID=Europe/Berlin:20260225T100000
DTEND;TZID=Europe/Berlin:20260225T113000
UID:26A-5001-20260225T100000@VHSRECKLINGHAUSEN
SUMMARY:Smartphone ganz einfach: Grundkurs für Anfänger*innen (26A-5001) 
LOCATION:Willy-Brandt-Haus R. 0.15, Herzogswall 17, 45657 Recklinghausen
END:VEVENT
END:VCALENDAR