BEGIN:VCALENDAR
VERSION:2.0
PRODID:https://www.kufer.de/kuferweb / DE
METHOD:PUBLISH
CALSCALE:GREGORIAN
X-WR-TIMEZONE:Europe/Berlin
BEGIN:VTIMEZONE
TZID:Europe/Berlin
X-LIC-LOCATION:Europe/Berlin
BEGIN:DAYLIGHT
TZOFFSETFROM:+0100
TZOFFSETTO:+0200
TZNAME:CEST
DTSTART:19700329T020000
RRULE:FREQ=YEARLY;INTERVAL=1;BYDAY=-1SU;BYMONTH=3
END:DAYLIGHT
BEGIN:STANDARD
TZOFFSETFROM:+0200
TZOFFSETTO:+0100
TZNAME:CET
DTSTART:19701025T030000
RRULE:FREQ=YEARLY;INTERVAL=1;BYDAY=-1SU;BYMONTH=10
END:STANDARD
END:VTIMEZONE
BEGIN:VEVENT
DTSTAMP:20260425T154951
DTSTART;TZID=Europe/Berlin:20261005T093000
DTEND;TZID=Europe/Berlin:20261005T163000
UID:26A-5201-20261005T093000@VHSRECKLINGHAUSEN
SUMMARY:KI-Prompting für Organisationen Bildungsurlaub / Intensivkurs (26A-5201) 
LOCATION:Willy-Brandt-Haus R. 01.03, Herzogswall 17, 45657 Recklinghausen
END:VEVENT
BEGIN:VEVENT
DTSTAMP:20260425T154951
DTSTART;TZID=Europe/Berlin:20261006T093000
DTEND;TZID=Europe/Berlin:20261006T163000
UID:26A-5201-20261006T093000@VHSRECKLINGHAUSEN
SUMMARY:KI-Prompting für Organisationen Bildungsurlaub / Intensivkurs (26A-5201) 
LOCATION:Willy-Brandt-Haus R. 01.03, Herzogswall 17, 45657 Recklinghausen
END:VEVENT
BEGIN:VEVENT
DTSTAMP:20260425T154951
DTSTART;TZID=Europe/Berlin:20261007T093000
DTEND;TZID=Europe/Berlin:20261007T163000
UID:26A-5201-20261007T093000@VHSRECKLINGHAUSEN
SUMMARY:KI-Prompting für Organisationen Bildungsurlaub / Intensivkurs (26A-5201) 
LOCATION:Willy-Brandt-Haus R. 01.03, Herzogswall 17, 45657 Recklinghausen
END:VEVENT
END:VCALENDAR