BEGIN:VCALENDAR
VERSION:2.0
PRODID:https://www.kufer.de/kuferweb / DE
METHOD:PUBLISH
CALSCALE:GREGORIAN
X-WR-TIMEZONE:Europe/Berlin
BEGIN:VTIMEZONE
TZID:Europe/Berlin
X-LIC-LOCATION:Europe/Berlin
BEGIN:DAYLIGHT
TZOFFSETFROM:+0100
TZOFFSETTO:+0200
TZNAME:CEST
DTSTART:19700329T020000
RRULE:FREQ=YEARLY;INTERVAL=1;BYDAY=-1SU;BYMONTH=3
END:DAYLIGHT
BEGIN:STANDARD
TZOFFSETFROM:+0200
TZOFFSETTO:+0100
TZNAME:CET
DTSTART:19701025T030000
RRULE:FREQ=YEARLY;INTERVAL=1;BYDAY=-1SU;BYMONTH=10
END:STANDARD
END:VTIMEZONE
BEGIN:VEVENT
DTSTAMP:20260425T142431
DTSTART;TZID=Europe/Berlin:20260202T083000
DTEND;TZID=Europe/Berlin:20260202T153000
UID:26A-5235-20260202T083000@VHSRECKLINGHAUSEN
SUMMARY:Word, Excel, Outlook.  Bildungsurlaub / Intensivkurs (26A-5235) 
LOCATION:Willy-Brandt-Haus R. 01.03, Herzogswall 17, 45657 Recklinghausen
END:VEVENT
BEGIN:VEVENT
DTSTAMP:20260425T142431
DTSTART;TZID=Europe/Berlin:20260203T083000
DTEND;TZID=Europe/Berlin:20260203T153000
UID:26A-5235-20260203T083000@VHSRECKLINGHAUSEN
SUMMARY:Word, Excel, Outlook.  Bildungsurlaub / Intensivkurs (26A-5235) 
LOCATION:Willy-Brandt-Haus R. 01.03, Herzogswall 17, 45657 Recklinghausen
END:VEVENT
BEGIN:VEVENT
DTSTAMP:20260425T142431
DTSTART;TZID=Europe/Berlin:20260204T083000
DTEND;TZID=Europe/Berlin:20260204T153000
UID:26A-5235-20260204T083000@VHSRECKLINGHAUSEN
SUMMARY:Word, Excel, Outlook.  Bildungsurlaub / Intensivkurs (26A-5235) 
LOCATION:Willy-Brandt-Haus R. 01.03, Herzogswall 17, 45657 Recklinghausen
END:VEVENT
BEGIN:VEVENT
DTSTAMP:20260425T142431
DTSTART;TZID=Europe/Berlin:20260205T083000
DTEND;TZID=Europe/Berlin:20260205T153000
UID:26A-5235-20260205T083000@VHSRECKLINGHAUSEN
SUMMARY:Word, Excel, Outlook.  Bildungsurlaub / Intensivkurs (26A-5235) 
LOCATION:Willy-Brandt-Haus R. 01.03, Herzogswall 17, 45657 Recklinghausen
END:VEVENT
BEGIN:VEVENT
DTSTAMP:20260425T142431
DTSTART;TZID=Europe/Berlin:20260206T083000
DTEND;TZID=Europe/Berlin:20260206T153000
UID:26A-5235-20260206T083000@VHSRECKLINGHAUSEN
SUMMARY:Word, Excel, Outlook.  Bildungsurlaub / Intensivkurs (26A-5235) 
LOCATION:Willy-Brandt-Haus R. 01.03, Herzogswall 17, 45657 Recklinghausen
END:VEVENT
END:VCALENDAR