BEGIN:VCALENDAR
VERSION:2.0
PRODID:https://www.kufer.de/kuferweb / DE
METHOD:PUBLISH
CALSCALE:GREGORIAN
X-WR-TIMEZONE:Europe/Berlin
BEGIN:VTIMEZONE
TZID:Europe/Berlin
X-LIC-LOCATION:Europe/Berlin
BEGIN:DAYLIGHT
TZOFFSETFROM:+0100
TZOFFSETTO:+0200
TZNAME:CEST
DTSTART:19700329T020000
RRULE:FREQ=YEARLY;INTERVAL=1;BYDAY=-1SU;BYMONTH=3
END:DAYLIGHT
BEGIN:STANDARD
TZOFFSETFROM:+0200
TZOFFSETTO:+0100
TZNAME:CET
DTSTART:19701025T030000
RRULE:FREQ=YEARLY;INTERVAL=1;BYDAY=-1SU;BYMONTH=10
END:STANDARD
END:VTIMEZONE
BEGIN:VEVENT
DTSTAMP:20260425T155226
DTSTART;TZID=Europe/Berlin:20260817T100000
DTEND;TZID=Europe/Berlin:20260817T141500
UID:26A-5402J-20260817T100000@VHSRECKLINGHAUSEN
SUMMARY:Raspberry Pi: Dein Einstieg ins Programmieren & Erfinden Workshop für Jugendliche zwischen 13 und 15 Jahren  (26A-5402J) 
LOCATION:Willy-Brandt-Haus R. 01.03, Herzogswall 17, 45657 Recklinghausen
END:VEVENT
BEGIN:VEVENT
DTSTAMP:20260425T155226
DTSTART;TZID=Europe/Berlin:20260818T100000
DTEND;TZID=Europe/Berlin:20260818T141500
UID:26A-5402J-20260818T100000@VHSRECKLINGHAUSEN
SUMMARY:Raspberry Pi: Dein Einstieg ins Programmieren & Erfinden Workshop für Jugendliche zwischen 13 und 15 Jahren  (26A-5402J) 
LOCATION:Willy-Brandt-Haus R. 01.03, Herzogswall 17, 45657 Recklinghausen
END:VEVENT
BEGIN:VEVENT
DTSTAMP:20260425T155226
DTSTART;TZID=Europe/Berlin:20260819T100000
DTEND;TZID=Europe/Berlin:20260819T141500
UID:26A-5402J-20260819T100000@VHSRECKLINGHAUSEN
SUMMARY:Raspberry Pi: Dein Einstieg ins Programmieren & Erfinden Workshop für Jugendliche zwischen 13 und 15 Jahren  (26A-5402J) 
LOCATION:Willy-Brandt-Haus R. 01.03, Herzogswall 17, 45657 Recklinghausen
END:VEVENT
BEGIN:VEVENT
DTSTAMP:20260425T155226
DTSTART;TZID=Europe/Berlin:20260820T100000
DTEND;TZID=Europe/Berlin:20260820T141500
UID:26A-5402J-20260820T100000@VHSRECKLINGHAUSEN
SUMMARY:Raspberry Pi: Dein Einstieg ins Programmieren & Erfinden Workshop für Jugendliche zwischen 13 und 15 Jahren  (26A-5402J) 
LOCATION:Willy-Brandt-Haus R. 01.03, Herzogswall 17, 45657 Recklinghausen
END:VEVENT
BEGIN:VEVENT
DTSTAMP:20260425T155226
DTSTART;TZID=Europe/Berlin:20260821T100000
DTEND;TZID=Europe/Berlin:20260821T141500
UID:26A-5402J-20260821T100000@VHSRECKLINGHAUSEN
SUMMARY:Raspberry Pi: Dein Einstieg ins Programmieren & Erfinden Workshop für Jugendliche zwischen 13 und 15 Jahren  (26A-5402J) 
LOCATION:Willy-Brandt-Haus R. 01.03, Herzogswall 17, 45657 Recklinghausen
END:VEVENT
END:VCALENDAR