BEGIN:VCALENDAR
VERSION:2.0
PRODID:https://www.kufer.de/kuferweb / DE
METHOD:PUBLISH
CALSCALE:GREGORIAN
X-WR-TIMEZONE:Europe/Berlin
BEGIN:VTIMEZONE
TZID:Europe/Berlin
X-LIC-LOCATION:Europe/Berlin
BEGIN:DAYLIGHT
TZOFFSETFROM:+0100
TZOFFSETTO:+0200
TZNAME:CEST
DTSTART:19700329T020000
RRULE:FREQ=YEARLY;INTERVAL=1;BYDAY=-1SU;BYMONTH=3
END:DAYLIGHT
BEGIN:STANDARD
TZOFFSETFROM:+0200
TZOFFSETTO:+0100
TZNAME:CET
DTSTART:19701025T030000
RRULE:FREQ=YEARLY;INTERVAL=1;BYDAY=-1SU;BYMONTH=10
END:STANDARD
END:VTIMEZONE
BEGIN:VEVENT
DTSTAMP:20260425T161619
DTSTART;TZID=Europe/Berlin:20260615T163000
DTEND;TZID=Europe/Berlin:20260615T180000
UID:26A-6230-20260615T163000@VHSRECKLINGHAUSEN
SUMMARY:Fit für die Schule, Vorkurs (26A-6230) 
LOCATION:Willy-Brandt-Haus R. 2.01, Herzogswall 17, 45657 Recklinghausen
END:VEVENT
BEGIN:VEVENT
DTSTAMP:20260425T161619
DTSTART;TZID=Europe/Berlin:20260616T163000
DTEND;TZID=Europe/Berlin:20260616T180000
UID:26A-6230-20260616T163000@VHSRECKLINGHAUSEN
SUMMARY:Fit für die Schule, Vorkurs (26A-6230) 
LOCATION:Willy-Brandt-Haus R. 2.01, Herzogswall 17, 45657 Recklinghausen
END:VEVENT
BEGIN:VEVENT
DTSTAMP:20260425T161619
DTSTART;TZID=Europe/Berlin:20260617T163000
DTEND;TZID=Europe/Berlin:20260617T180000
UID:26A-6230-20260617T163000@VHSRECKLINGHAUSEN
SUMMARY:Fit für die Schule, Vorkurs (26A-6230) 
LOCATION:Willy-Brandt-Haus R. 2.01, Herzogswall 17, 45657 Recklinghausen
END:VEVENT
BEGIN:VEVENT
DTSTAMP:20260425T161619
DTSTART;TZID=Europe/Berlin:20260618T163000
DTEND;TZID=Europe/Berlin:20260618T180000
UID:26A-6230-20260618T163000@VHSRECKLINGHAUSEN
SUMMARY:Fit für die Schule, Vorkurs (26A-6230) 
LOCATION:Willy-Brandt-Haus R. 2.01, Herzogswall 17, 45657 Recklinghausen
END:VEVENT
BEGIN:VEVENT
DTSTAMP:20260425T161619
DTSTART;TZID=Europe/Berlin:20260622T163000
DTEND;TZID=Europe/Berlin:20260622T180000
UID:26A-6230-20260622T163000@VHSRECKLINGHAUSEN
SUMMARY:Fit für die Schule, Vorkurs (26A-6230) 
LOCATION:Willy-Brandt-Haus R. 2.01, Herzogswall 17, 45657 Recklinghausen
END:VEVENT
BEGIN:VEVENT
DTSTAMP:20260425T161619
DTSTART;TZID=Europe/Berlin:20260623T163000
DTEND;TZID=Europe/Berlin:20260623T180000
UID:26A-6230-20260623T163000@VHSRECKLINGHAUSEN
SUMMARY:Fit für die Schule, Vorkurs (26A-6230) 
LOCATION:Willy-Brandt-Haus R. 2.01, Herzogswall 17, 45657 Recklinghausen
END:VEVENT
BEGIN:VEVENT
DTSTAMP:20260425T161619
DTSTART;TZID=Europe/Berlin:20260624T163000
DTEND;TZID=Europe/Berlin:20260624T180000
UID:26A-6230-20260624T163000@VHSRECKLINGHAUSEN
SUMMARY:Fit für die Schule, Vorkurs (26A-6230) 
LOCATION:Willy-Brandt-Haus R. 2.01, Herzogswall 17, 45657 Recklinghausen
END:VEVENT
BEGIN:VEVENT
DTSTAMP:20260425T161619
DTSTART;TZID=Europe/Berlin:20260625T163000
DTEND;TZID=Europe/Berlin:20260625T180000
UID:26A-6230-20260625T163000@VHSRECKLINGHAUSEN
SUMMARY:Fit für die Schule, Vorkurs (26A-6230) 
LOCATION:Willy-Brandt-Haus R. 2.01, Herzogswall 17, 45657 Recklinghausen
END:VEVENT
BEGIN:VEVENT
DTSTAMP:20260425T161619
DTSTART;TZID=Europe/Berlin:20260629T163000
DTEND;TZID=Europe/Berlin:20260629T180000
UID:26A-6230-20260629T163000@VHSRECKLINGHAUSEN
SUMMARY:Fit für die Schule, Vorkurs (26A-6230) 
LOCATION:Willy-Brandt-Haus R. 2.01, Herzogswall 17, 45657 Recklinghausen
END:VEVENT
BEGIN:VEVENT
DTSTAMP:20260425T161619
DTSTART;TZID=Europe/Berlin:20260630T163000
DTEND;TZID=Europe/Berlin:20260630T180000
UID:26A-6230-20260630T163000@VHSRECKLINGHAUSEN
SUMMARY:Fit für die Schule, Vorkurs (26A-6230) 
LOCATION:Willy-Brandt-Haus R. 2.01, Herzogswall 17, 45657 Recklinghausen
END:VEVENT
BEGIN:VEVENT
DTSTAMP:20260425T161619
DTSTART;TZID=Europe/Berlin:20260701T163000
DTEND;TZID=Europe/Berlin:20260701T180000
UID:26A-6230-20260701T163000@VHSRECKLINGHAUSEN
SUMMARY:Fit für die Schule, Vorkurs (26A-6230) 
LOCATION:Willy-Brandt-Haus R. 2.01, Herzogswall 17, 45657 Recklinghausen
END:VEVENT
BEGIN:VEVENT
DTSTAMP:20260425T161619
DTSTART;TZID=Europe/Berlin:20260702T163000
DTEND;TZID=Europe/Berlin:20260702T180000
UID:26A-6230-20260702T163000@VHSRECKLINGHAUSEN
SUMMARY:Fit für die Schule, Vorkurs (26A-6230) 
LOCATION:Willy-Brandt-Haus R. 2.01, Herzogswall 17, 45657 Recklinghausen
END:VEVENT
BEGIN:VEVENT
DTSTAMP:20260425T161619
DTSTART;TZID=Europe/Berlin:20260706T163000
DTEND;TZID=Europe/Berlin:20260706T180000
UID:26A-6230-20260706T163000@VHSRECKLINGHAUSEN
SUMMARY:Fit für die Schule, Vorkurs (26A-6230) 
LOCATION:Willy-Brandt-Haus R. 2.01, Herzogswall 17, 45657 Recklinghausen
END:VEVENT
BEGIN:VEVENT
DTSTAMP:20260425T161619
DTSTART;TZID=Europe/Berlin:20260707T163000
DTEND;TZID=Europe/Berlin:20260707T180000
UID:26A-6230-20260707T163000@VHSRECKLINGHAUSEN
SUMMARY:Fit für die Schule, Vorkurs (26A-6230) 
LOCATION:Willy-Brandt-Haus R. 2.01, Herzogswall 17, 45657 Recklinghausen
END:VEVENT
BEGIN:VEVENT
DTSTAMP:20260425T161619
DTSTART;TZID=Europe/Berlin:20260708T163000
DTEND;TZID=Europe/Berlin:20260708T180000
UID:26A-6230-20260708T163000@VHSRECKLINGHAUSEN
SUMMARY:Fit für die Schule, Vorkurs (26A-6230) 
LOCATION:Willy-Brandt-Haus R. 2.01, Herzogswall 17, 45657 Recklinghausen
END:VEVENT
BEGIN:VEVENT
DTSTAMP:20260425T161619
DTSTART;TZID=Europe/Berlin:20260709T163000
DTEND;TZID=Europe/Berlin:20260709T180000
UID:26A-6230-20260709T163000@VHSRECKLINGHAUSEN
SUMMARY:Fit für die Schule, Vorkurs (26A-6230) 
LOCATION:Willy-Brandt-Haus R. 2.01, Herzogswall 17, 45657 Recklinghausen
END:VEVENT
BEGIN:VEVENT
DTSTAMP:20260425T161619
DTSTART;TZID=Europe/Berlin:20260713T163000
DTEND;TZID=Europe/Berlin:20260713T180000
UID:26A-6230-20260713T163000@VHSRECKLINGHAUSEN
SUMMARY:Fit für die Schule, Vorkurs (26A-6230) 
LOCATION:Willy-Brandt-Haus R. 2.01, Herzogswall 17, 45657 Recklinghausen
END:VEVENT
BEGIN:VEVENT
DTSTAMP:20260425T161619
DTSTART;TZID=Europe/Berlin:20260714T163000
DTEND;TZID=Europe/Berlin:20260714T180000
UID:26A-6230-20260714T163000@VHSRECKLINGHAUSEN
SUMMARY:Fit für die Schule, Vorkurs (26A-6230) 
LOCATION:Willy-Brandt-Haus R. 2.01, Herzogswall 17, 45657 Recklinghausen
END:VEVENT
BEGIN:VEVENT
DTSTAMP:20260425T161619
DTSTART;TZID=Europe/Berlin:20260715T163000
DTEND;TZID=Europe/Berlin:20260715T180000
UID:26A-6230-20260715T163000@VHSRECKLINGHAUSEN
SUMMARY:Fit für die Schule, Vorkurs (26A-6230) 
LOCATION:Willy-Brandt-Haus R. 2.01, Herzogswall 17, 45657 Recklinghausen
END:VEVENT
BEGIN:VEVENT
DTSTAMP:20260425T161619
DTSTART;TZID=Europe/Berlin:20260716T163000
DTEND;TZID=Europe/Berlin:20260716T180000
UID:26A-6230-20260716T163000@VHSRECKLINGHAUSEN
SUMMARY:Fit für die Schule, Vorkurs (26A-6230) 
LOCATION:Willy-Brandt-Haus R. 2.01, Herzogswall 17, 45657 Recklinghausen
END:VEVENT
END:VCALENDAR